BEGIN:VCALENDAR
VERSION:2.0
PRODID:-//fabrica design platform - ECPv6.15.20//NONSGML v1.0//EN
CALSCALE:GREGORIAN
METHOD:PUBLISH
X-ORIGINAL-URL:https://fabricadesignplatform.com
X-WR-CALDESC:Events for fabrica design platform
REFRESH-INTERVAL;VALUE=DURATION:PT1H
X-Robots-Tag:noindex
X-PUBLISHED-TTL:PT1H
BEGIN:VTIMEZONE
TZID:Africa/Cairo
BEGIN:DAYLIGHT
TZOFFSETFROM:+0200
TZOFFSETTO:+0300
TZNAME:EEST
DTSTART:20240425T220000
END:DAYLIGHT
BEGIN:STANDARD
TZOFFSETFROM:+0300
TZOFFSETTO:+0200
TZNAME:EET
DTSTART:20241031T210000
END:STANDARD
BEGIN:DAYLIGHT
TZOFFSETFROM:+0200
TZOFFSETTO:+0300
TZNAME:EEST
DTSTART:20250424T220000
END:DAYLIGHT
BEGIN:STANDARD
TZOFFSETFROM:+0300
TZOFFSETTO:+0200
TZNAME:EET
DTSTART:20251030T210000
END:STANDARD
BEGIN:DAYLIGHT
TZOFFSETFROM:+0200
TZOFFSETTO:+0300
TZNAME:EEST
DTSTART:20260423T220000
END:DAYLIGHT
BEGIN:STANDARD
TZOFFSETFROM:+0300
TZOFFSETTO:+0200
TZNAME:EET
DTSTART:20261029T210000
END:STANDARD
END:VTIMEZONE
BEGIN:VEVENT
DTSTART;TZID=Africa/Cairo:20250602T090000
DTEND;TZID=Africa/Cairo:20250606T130000
DTSTAMP:20260422T192904
CREATED:20251010T140655Z
LAST-MODIFIED:20251013T172633Z
UID:10005376-1748854800-1749214800@fabricadesignplatform.com
SUMMARY:textures & surface decoration
DESCRIPTION:We’re excited to welcome Maria Loram to our studio this June\, all the way from Los Angeles\, for two exclusive workshops! Loram will guide participants through an immersive exploration of surface decoration\, with a focus on special effect glazes and ceramic textures. These sessions are designed to help you develop surface treatments that reflect your personal style\, blending technical glaze knowledge\, hands-on demonstrations\, and a thoughtful dive into the philosophy of creative experimentation. \nkey learning objectives:\nUnderstand the structure and chemistry of ceramic glazes\nLearn to mix\, test\, and modify glazes with confidence\nExplore special effect glazes such as crawl\, lichen\, and lava\nExperiment with flux modification and glaze behavior\nWork with advanced materials like titanium dioxide and silicon carbide\nUnderstand how colorants and mesh size affect glaze results\nUse aggregates and slips to create depth and texture\nStrengthen hands-on skills in applying and adjusting experimental glazes\nEngage in group feedback and critical discussion to refine techniques \nwhat to expect:\nParticipants will move from theory to practice -learning to craft\, test\, and refine their own glazes while gaining a deeper understanding of surface as both a technical and expressive medium. Each day will combine lecture-style discussions\, live demonstrations\, and guided studio experimentation. You’ll create a set of test tiles\, explore various surface combinations\, and leave with personalized glaze recipes and reference materials to continue developing your work. The workshops will also include collective critique sessions\, fostering a sense of shared learning and discovery within the group. Whether you’re an experienced ceramicist or an advanced beginner\, this masterclass offers an opportunity to expand your creative vocabulary and approach glazing with confidence and curiosity.\n \n 
URL:https://fabricadesignplatform.com/event/textures-surface-decoration-2-2-2/
LOCATION:Fabrica Design Platform\, Dar Khawla Building\, Chehade Street\, Beirut\, 0000 0000\, United States
CATEGORIES:Master Classes
ATTACH;FMTTYPE=image/jpeg:https://fabricadesignplatform.com/wp-content/uploads/2025/10/Loram-03-scaled.jpg
END:VEVENT
BEGIN:VEVENT
DTSTART;TZID=Africa/Cairo:20250602T140000
DTEND;TZID=Africa/Cairo:20250606T180000
DTSTAMP:20260422T192904
CREATED:20251010T140831Z
LAST-MODIFIED:20251013T172601Z
UID:10005375-1748872800-1749232800@fabricadesignplatform.com
SUMMARY:textures & surface decoration
DESCRIPTION:We’re excited to welcome Maria Loram to our studio this June\, all the way from Los Angeles\, for two exclusive workshops! Loram will guide participants through an immersive exploration of surface decoration\, with a focus on special effect glazes and ceramic textures. These sessions are designed to help you develop surface treatments that reflect your personal style\, blending technical glaze knowledge\, hands-on demonstrations\, and a thoughtful dive into the philosophy of creative experimentation. \nkey learning objectives:\nUnderstand the structure and chemistry of ceramic glazes\nLearn to mix\, test\, and modify glazes with confidence\nExplore special effect glazes such as crawl\, lichen\, and lava\nExperiment with flux modification and glaze behavior\nWork with advanced materials like titanium dioxide and silicon carbide\nUnderstand how colorants and mesh size affect glaze results\nUse aggregates and slips to create depth and texture\nStrengthen hands-on skills in applying and adjusting experimental glazes\nEngage in group feedback and critical discussion to refine techniques \nwhat to expect:\nParticipants will move from theory to practice -learning to craft\, test\, and refine their own glazes while gaining a deeper understanding of surface as both a technical and expressive medium. Each day will combine lecture-style discussions\, live demonstrations\, and guided studio experimentation. You’ll create a set of test tiles\, explore various surface combinations\, and leave with personalized glaze recipes and reference materials to continue developing your work. The workshops will also include collective critique sessions\, fostering a sense of shared learning and discovery within the group. Whether you’re an experienced ceramicist or an advanced beginner\, this masterclass offers an opportunity to expand your creative vocabulary and approach glazing with confidence and curiosity.\n \n 
URL:https://fabricadesignplatform.com/event/textures-surface-decoration-2-2-3/
LOCATION:Fabrica Design Platform\, Dar Khawla Building\, Chehade Street\, Beirut\, 0000 0000\, United States
CATEGORIES:Master Classes
ATTACH;FMTTYPE=image/jpeg:https://fabricadesignplatform.com/wp-content/uploads/2025/10/Loram-03-scaled.jpg
END:VEVENT
END:VCALENDAR